BEGIN:VCALENDAR
VERSION:2.0
PRODID:-//Plone.org//NONSGML plone.app.event//EN
X-WR-TIMEZONE:Africa/Johannesburg
BEGIN:VEVENT
SUMMARY:SA National Junior Age Group Championships
DTSTART;VALUE=DATE:20250425
DTEND;VALUE=DATE:20250430
DTSTAMP:20260420T083437Z
UID:2869672416234229a0e26c487c526047@167.172.48.169:8080
CATEGORIES:Swimming
CREATED:20251105T064836Z
LAST-MODIFIED:20251105T073800Z
LOCATION:UWC Swimming Pool (Cape Town)
URL:https://swimsa.org/events-results/all-events/sa-national-junior-age-gr
 oup-championships
END:VEVENT
END:VCALENDAR
